BEGIN:VCALENDAR
VERSION:2.0
PRODID:-//Vilalba Fútbol Sala GRUPO FORMA-t - ECPv6.15.20//NONSGML v1.0//EN
CALSCALE:GREGORIAN
METHOD:PUBLISH
X-WR-CALNAME:Vilalba Fútbol Sala GRUPO FORMA-t
X-ORIGINAL-URL:https://vilalbafs.es
X-WR-CALDESC:Events for Vilalba Fútbol Sala GRUPO FORMA-t
REFRESH-INTERVAL;VALUE=DURATION:PT1H
X-Robots-Tag:noindex
X-PUBLISHED-TTL:PT1H
BEGIN:VTIMEZONE
TZID:Europe/Madrid
BEGIN:DAYLIGHT
TZOFFSETFROM:+0100
TZOFFSETTO:+0200
TZNAME:CEST
DTSTART:20250330T010000
END:DAYLIGHT
BEGIN:STANDARD
TZOFFSETFROM:+0200
TZOFFSETTO:+0100
TZNAME:CET
DTSTART:20251026T010000
END:STANDARD
BEGIN:DAYLIGHT
TZOFFSETFROM:+0100
TZOFFSETTO:+0200
TZNAME:CEST
DTSTART:20260329T010000
END:DAYLIGHT
BEGIN:STANDARD
TZOFFSETFROM:+0200
TZOFFSETTO:+0100
TZNAME:CET
DTSTART:20261025T010000
END:STANDARD
BEGIN:DAYLIGHT
TZOFFSETFROM:+0100
TZOFFSETTO:+0200
TZNAME:CEST
DTSTART:20270328T010000
END:DAYLIGHT
BEGIN:STANDARD
TZOFFSETFROM:+0200
TZOFFSETTO:+0100
TZNAME:CET
DTSTART:20271031T010000
END:STANDARD
END:VTIMEZONE
BEGIN:VEVENT
DTSTART;TZID=Europe/Madrid:20260425T123000
DTEND;TZID=Europe/Madrid:20260425T140000
DTSTAMP:20260424T105030
CREATED:20250917T085530Z
LAST-MODIFIED:20260423T080859Z
UID:6810-1777120200-1777125600@vilalbafs.es
SUMMARY:Grupo FORMA-T Vilalba F.S. - ENCE Marín Futsal (2ª DIVISIÓN RFEF)
DESCRIPTION:2ª DIVISIÓN RFEF\nGrupo Forma-t Vilalba F.S. – ENCE Marín Futsal\nPavillón Municipal “Jonathan Carro Paz” (Guitiriz)\nSábado 25/04/2026\nHora: 12:30
URL:https://vilalbafs.es/partido/grupo-forma-t-vilalba-f-s-ence-marin-futsal-2a-reff-fem/
END:VEVENT
BEGIN:VEVENT
DTSTART;TZID=Europe/Madrid:20260425T180000
DTEND;TZID=Europe/Madrid:20260425T193000
DTSTAMP:20260424T105030
CREATED:20250811T155156Z
LAST-MODIFIED:20260423T081005Z
UID:6633-1777140000-1777145400@vilalbafs.es
SUMMARY:5 Coruña F.S. - Grupo FORMA-T Vilalba F.S. (2ª DIVISIÓN “B” RFEF)
DESCRIPTION:2ª DIVISIÓN “B” RFEF\n5 Coruña F.S. – Grupo Forma-t Vilalba F.S.\nPavillón Municipal “Novo Mesoiro” (A Coruña)\nSábado 25/04/2026\nHora: 18:00
URL:https://vilalbafs.es/partido/5-coruna-f-s-grupo-forma-t-vilalba-f-s-2ab/
END:VEVENT
BEGIN:VEVENT
DTSTART;TZID=Europe/Madrid:20260426T150000
DTEND;TZID=Europe/Madrid:20260426T163000
DTSTAMP:20260424T105030
CREATED:20260423T081223Z
LAST-MODIFIED:20260423T081223Z
UID:7587-1777215600-1777221000@vilalbafs.es
SUMMARY:Grupo Forma-t Vilalba F.S. “A” – Grupo Forma-t Vilalba F.S. “B” (Primeira Infantil Masculina)
DESCRIPTION:Primeira Infantil Masculina\nGrupo Forma-t Vilalba F.S. “A” – Grupo Forma-t Vilalba F.S. “B”\nPavillón Municipal “Jonathan Carro Paz” (Guitiriz)\nSábado 26/04/2026\nHora: 15:00
URL:https://vilalbafs.es/partido/grupo-forma-t-vilalba-f-s-a-grupo-forma-t-vilalba-f-s-b-primeira-infantil-masculina/
END:VEVENT
BEGIN:VEVENT
DTSTART;TZID=Europe/Madrid:20260426T160000
DTEND;TZID=Europe/Madrid:20260426T173000
DTSTAMP:20260424T105030
CREATED:20260423T081041Z
LAST-MODIFIED:20260423T081041Z
UID:7579-1777219200-1777224600@vilalbafs.es
SUMMARY:Grupo Forma-t Vilalba F.S. “C” – Os Meigallos F.S. (Copa Primeira Futgal Feminina)
DESCRIPTION:Copa Primeira Futgal Feminina\nGrupo Forma-t Vilalba F.S. “C” – Os Meigallos F.S.\nPavillón Municipal “Jonathan Carro Paz” (Guitiriz)\nDomingo 26/04/2026\nHora: 16:00
URL:https://vilalbafs.es/partido/grupo-forma-t-vilalba-f-s-c-os-meigallos-f-s-copa-primeira-futgal-feminina/
END:VEVENT
BEGIN:VEVENT
DTSTART;TZID=Europe/Madrid:20260426T173000
DTEND;TZID=Europe/Madrid:20260426T190000
DTSTAMP:20260424T105030
CREATED:20260423T081125Z
LAST-MODIFIED:20260423T081125Z
UID:7584-1777224600-1777230000@vilalbafs.es
SUMMARY:Grupo Forma-t Vilalba F.S. “B” – Castroverde F.S. (Copa Primeira Futgal Feminina)
DESCRIPTION:Copa Primeira Futgal Feminina\nGrupo Forma-t Vilalba F.S. “B” – Castroverde F.S.\nPavillón Municipal “Jonathan Carro Paz” (Guitiriz)\nDomingo 26/04/2026\nHora: 17:30
URL:https://vilalbafs.es/partido/grupo-forma-t-vilalba-f-s-b-castroverde-f-s-copa-primeira-futgal-feminina/
END:VEVENT
BEGIN:VEVENT
DTSTART;TZID=Europe/Madrid:20260426T190000
DTEND;TZID=Europe/Madrid:20260426T203000
DTSTAMP:20260424T105030
CREATED:20260423T081156Z
LAST-MODIFIED:20260423T081156Z
UID:7585-1777230000-1777235400@vilalbafs.es
SUMMARY:Grupo Forma-t Vilalba F.S. – S.D. Xove F.S. (Primeira Futgal Xuvenil Masculina)
DESCRIPTION:Primeira Futgal Xuvenil Masculina\nGrupo Forma-t Vilalba F.S. – S.D. Xove F.S.\nPavillón Municipal “Jonathan Carro Paz” (Guitiriz)\nDomingo 26/04/2026\nHora: 19:00
URL:https://vilalbafs.es/partido/grupo-forma-t-vilalba-f-s-s-d-xove-f-s-primeira-futgal-xuvenil-masculina/
END:VEVENT
BEGIN:VEVENT
DTSTART;VALUE=DATE:20260502
DTEND;VALUE=DATE:20260503
DTSTAMP:20260424T105030
CREATED:20250811T155219Z
LAST-MODIFIED:20250811T155219Z
UID:6635-1777680000-1777766399@vilalbafs.es
SUMMARY:Grupo FORMA-T Vilalba F.S. - Deporcyl - Guardo FS - 2ªB
DESCRIPTION:
URL:https://vilalbafs.es/partido/grupo-forma-t-vilalba-f-s-deporcyl-guardo-fs-2ab/
END:VEVENT
BEGIN:VEVENT
DTSTART;VALUE=DATE:20260509
DTEND;VALUE=DATE:20260510
DTSTAMP:20260424T105030
CREATED:20250917T085604Z
LAST-MODIFIED:20250917T085604Z
UID:6812-1778284800-1778371199@vilalbafs.es
SUMMARY:A.D. Mioño FSF - Grupo FORMA-T Vilalba F.S. (2ª REFF FEM.)
DESCRIPTION:
URL:https://vilalbafs.es/partido/a-d-miono-fsf-grupo-forma-t-vilalba-f-s-2a-reff-fem/
END:VEVENT
BEGIN:VEVENT
DTSTART;VALUE=DATE:20260516
DTEND;VALUE=DATE:20260517
DTSTAMP:20260424T105030
CREATED:20250917T085635Z
LAST-MODIFIED:20250917T085635Z
UID:6814-1778889600-1778975999@vilalbafs.es
SUMMARY:Grupo FORMA-T Vilalba F.S. - Club Deportivo San Pablo-Eivis (2ª REFF FEM.)
DESCRIPTION:
URL:https://vilalbafs.es/partido/grupo-forma-t-vilalba-f-s-club-deportivo-san-pablo-eivis-2a-reff-fem/
END:VEVENT
END:VCALENDAR